BEGIN:VCALENDAR
VERSION:2.0
PRODID:-//https://mail.daiquirideck.com///NONSGML kigkonsult.se iCalcreator 2.10.15//
METHOD:PUBLISH
BEGIN:VEVENT
UID:20260424T025530UTC-8994vTxHzd@https://mail.daiquirideck.com/
DTSTAMP:20260424T025530Z
DESCRIPTION: https://mail.daiquirideck.com/component/rseventspro/event/4174
 -7p-aaron-kelly?Itemid=101
DTSTART;VALUE=DATE:20260530
LOCATION:Daiquiri Deck Island of Venice (300 W Venice Ave\, Venice\, FL 342
 85)
SUMMARY: 7p Aaron Kelly
URL:https://mail.daiquirideck.com/component/rseventspro/event/4174-7p-aaron
 -kelly?Itemid=101
END:VEVENT
END:VCALENDAR
