BEGIN:VCALENDAR
VERSION:2.0
PRODID:-//https://mail.daiquirideck.com///NONSGML kigkonsult.se iCalcreator 2.10.15//
METHOD:PUBLISH
BEGIN:VEVENT
UID:20260423T144547UTC-3671BdEW1g@https://mail.daiquirideck.com/
DTSTAMP:20260423T144547Z
DESCRIPTION: https://mail.daiquirideck.com/component/rseventspro/event/4172
 -6p-vince-b?Itemid=101
DTSTART;VALUE=DATE:20260522
LOCATION:Daiquiri Deck Island of Venice (300 W Venice Ave\, Venice\, FL 342
 85)
SUMMARY:  6p Vince B
URL:https://mail.daiquirideck.com/component/rseventspro/event/4172-6p-vince
 -b?Itemid=101
END:VEVENT
END:VCALENDAR
