BEGIN:VCALENDAR
VERSION:2.0
PRODID:-//https://mail.daiquirideck.com///NONSGML kigkonsult.se iCalcreator 2.10.15//
METHOD:PUBLISH
BEGIN:VEVENT
UID:20260424T042912UTC-1430vVciMf@https://mail.daiquirideck.com/
DTSTAMP:20260424T042912Z
DESCRIPTION: https://mail.daiquirideck.com/component/rseventspro/event/4163
 -5p-nathaniel-lee-white?Itemid=101
DTSTART;VALUE=DATE:20260531
LOCATION:Daiquiri Deck Island of Venice (300 W Venice Ave\, Venice\, FL 342
 85)
SUMMARY:5p Nathaniel Lee White
URL:https://mail.daiquirideck.com/component/rseventspro/event/4163-5p-natha
 niel-lee-white?Itemid=101
END:VEVENT
END:VCALENDAR
