BEGIN:VCALENDAR
VERSION:2.0
PRODID:-//https://mail.daiquirideck.com///NONSGML kigkonsult.se iCalcreator 2.10.15//
METHOD:PUBLISH
BEGIN:VEVENT
UID:20260423T234412UTC-4620gbO3Tk@https://mail.daiquirideck.com/
DTSTAMP:20260423T234412Z
DESCRIPTION: https://mail.daiquirideck.com/component/rseventspro/event/4160
 -5p-jake-ariel?Itemid=101
DTSTART;VALUE=DATE:20260528
LOCATION:Daiquiri Deck Island of Venice (300 W Venice Ave\, Venice\, FL 342
 85)
SUMMARY:5p Jake & Ariel
URL:https://mail.daiquirideck.com/component/rseventspro/event/4160-5p-jake-
 ariel?Itemid=101
END:VEVENT
END:VCALENDAR
