BEGIN:VCALENDAR
VERSION:2.0
PRODID:-//https://mail.daiquirideck.com///NONSGML kigkonsult.se iCalcreator 2.10.15//
METHOD:PUBLISH
BEGIN:VEVENT
UID:20260423T203123UTC-8367ppL5kS@https://mail.daiquirideck.com/
DTSTAMP:20260423T203123Z
DESCRIPTION: https://mail.daiquirideck.com/component/rseventspro/event/4158
 -12p-lonnie-paul?Itemid=101
DTSTART;VALUE=DATE:20260526
LOCATION:Daiquiri Deck Island of Venice (300 W Venice Ave\, Venice\, FL 342
 85)
SUMMARY:12p Lonnie Paul
URL:https://mail.daiquirideck.com/component/rseventspro/event/4158-12p-lonn
 ie-paul?Itemid=101
END:VEVENT
END:VCALENDAR
