BEGIN:VCALENDAR
VERSION:2.0
PRODID:-//https://mail.daiquirideck.com///NONSGML kigkonsult.se iCalcreator 2.10.15//
METHOD:PUBLISH
BEGIN:VEVENT
UID:20260423T191326UTC-0716rDLAtn@https://mail.daiquirideck.com/
DTSTAMP:20260423T191326Z
DESCRIPTION: https://mail.daiquirideck.com/component/rseventspro/event/4157
 -12p-groove-circle?Itemid=101
DTSTART;VALUE=DATE:20260525
LOCATION:Daiquiri Deck Island of Venice (300 W Venice Ave\, Venice\, FL 342
 85)
SUMMARY:12p Groove Circle
URL:https://mail.daiquirideck.com/component/rseventspro/event/4157-12p-groo
 ve-circle?Itemid=101
END:VEVENT
END:VCALENDAR
