BEGIN:VCALENDAR
VERSION:2.0
PRODID:-//https://mail.daiquirideck.com///NONSGML kigkonsult.se iCalcreator 2.10.15//
METHOD:PUBLISH
BEGIN:VEVENT
UID:20260421T055324UTC-6134uKj1NK@https://mail.daiquirideck.com/
DTSTAMP:20260421T055324Z
DESCRIPTION: https://mail.daiquirideck.com/component/rseventspro/event/4148
 -7p-aaron-kelly?Itemid=101
DTSTART;VALUE=DATE:20260516
LOCATION:Daiquiri Deck Island of Venice (300 W Venice Ave\, Venice\, FL 342
 85)
SUMMARY:7p Aaron Kelly
URL:https://mail.daiquirideck.com/component/rseventspro/event/4148-7p-aaron
 -kelly?Itemid=101
END:VEVENT
END:VCALENDAR
