BEGIN:VCALENDAR
VERSION:2.0
PRODID:-//https://mail.daiquirideck.com///NONSGML kigkonsult.se iCalcreator 2.10.15//
METHOD:PUBLISH
BEGIN:VEVENT
UID:20260421T034701UTC-8315kw2EUz@https://mail.daiquirideck.com/
DTSTAMP:20260421T034701Z
DESCRIPTION: https://mail.daiquirideck.com/component/rseventspro/event/4147
 -5p-jake-ariel?Itemid=101
DTSTART;VALUE=DATE:20260515
LOCATION:Daiquiri Deck Island of Venice (300 W Venice Ave\, Venice\, FL 342
 85)
SUMMARY:5p Jake & Ariel
URL:https://mail.daiquirideck.com/component/rseventspro/event/4147-5p-jake-
 ariel?Itemid=101
END:VEVENT
END:VCALENDAR
